BEGIN:VCALENDAR
VERSION:2.0
PRODID:-//eventon.com NONSGML v1.0//EN
BEGIN:VEVENT
UID:69e73954dc6dd
DTSTAMP:20260421T084612
DTSTART:20250504T151500Z
DTEND:20250504T235900Z
LOCATION:
SUMMARY:Claude Debussy : Images oubliées
DESCRIPTION: Mooredale Concerts Olivier Hébert-Bouchard piano Stéphane Tétreault cello Works by Claude Debussy…
END:VEVENT
END:VCALENDAR